BEGIN:VCALENDAR
VERSION:2.0
PRODID:-//Bridgit Malaysia | Corporate Training, Consulting and More - ECPv6.15.20//NONSGML v1.0//EN
CALSCALE:GREGORIAN
METHOD:PUBLISH
X-WR-CALNAME:Bridgit Malaysia | Corporate Training, Consulting and More
X-ORIGINAL-URL:https://bridgit.biz
X-WR-CALDESC:Events for Bridgit Malaysia | Corporate Training, Consulting and More
REFRESH-INTERVAL;VALUE=DURATION:PT1H
X-Robots-Tag:noindex
X-PUBLISHED-TTL:PT1H
BEGIN:VTIMEZONE
TZID:Asia/Shanghai
BEGIN:STANDARD
TZOFFSETFROM:+0800
TZOFFSETTO:+0800
TZNAME:CST
DTSTART:20240101T000000
END:STANDARD
END:VTIMEZONE
BEGIN:VEVENT
DTSTART;TZID=Asia/Shanghai:20250206T000000
DTEND;TZID=Asia/Shanghai:20250207T000000
DTSTAMP:20260424T215750
CREATED:20241001T030023Z
LAST-MODIFIED:20241001T030023Z
UID:1741-1738800000-1738886400@bridgit.biz
SUMMARY:Problem Solving and Critical Thinking (Live-Online)
DESCRIPTION:
URL:https://bridgit.biz/training-session/problem-solving-and-critical-thinking-live-online/
CATEGORIES:Non-certification program 2025
END:VEVENT
BEGIN:VEVENT
DTSTART;TZID=Asia/Shanghai:20250210T000000
DTEND;TZID=Asia/Shanghai:20250210T000000
DTSTAMP:20260424T215750
CREATED:20241001T025950Z
LAST-MODIFIED:20241001T025950Z
UID:1728-1739145600-1739145600@bridgit.biz
SUMMARY:ESG Series - ESG Awareness
DESCRIPTION:
URL:https://bridgit.biz/training-session/esg-series-esg-awareness/
CATEGORIES:Non-certification program 2025
END:VEVENT
BEGIN:VEVENT
DTSTART;TZID=Asia/Shanghai:20250210T000000
DTEND;TZID=Asia/Shanghai:20250211T000000
DTSTAMP:20260424T215750
CREATED:20241001T025749Z
LAST-MODIFIED:20241001T025749Z
UID:1717-1739145600-1739232000@bridgit.biz
SUMMARY:Design Thinking (Live-Online)
DESCRIPTION:
URL:https://bridgit.biz/training-session/design-thinking-live-online/
CATEGORIES:Non-certification program 2025
END:VEVENT
BEGIN:VEVENT
DTSTART;TZID=Asia/Shanghai:20250211T000000
DTEND;TZID=Asia/Shanghai:20250213T000000
DTSTAMP:20260424T215750
CREATED:20241001T030205Z
LAST-MODIFIED:20241120T040540Z
UID:1769-1739232000-1739404800@bridgit.biz
SUMMARY:Certified ESG Reporting Practitioner
DESCRIPTION:
URL:https://bridgit.biz/training-session/certified-esg-reporting-specialist-cers/
CATEGORIES:Certification program 2025
END:VEVENT
BEGIN:VEVENT
DTSTART;TZID=Asia/Shanghai:20250213T000000
DTEND;TZID=Asia/Shanghai:20250214T000000
DTSTAMP:20260424T215750
CREATED:20241001T025714Z
LAST-MODIFIED:20241001T025714Z
UID:1701-1739404800-1739491200@bridgit.biz
SUMMARY:Change Management Essentials (Live-Online)
DESCRIPTION:
URL:https://bridgit.biz/training-session/change-management-essentials-live-online/
CATEGORIES:Non-certification program 2025
END:VEVENT
BEGIN:VEVENT
DTSTART;TZID=Asia/Shanghai:20250217T000000
DTEND;TZID=Asia/Shanghai:20250218T000000
DTSTAMP:20260424T215750
CREATED:20241001T025714Z
LAST-MODIFIED:20241001T025714Z
UID:1698-1739750400-1739836800@bridgit.biz
SUMMARY:Anti Bribery Management System (ABMS) - Awareness
DESCRIPTION:
URL:https://bridgit.biz/training-session/anti-bribery-management-system-abms-awareness/
CATEGORIES:Non-certification program 2025
END:VEVENT
BEGIN:VEVENT
DTSTART;TZID=Asia/Shanghai:20250217T000000
DTEND;TZID=Asia/Shanghai:20250221T000000
DTSTAMP:20260424T215750
CREATED:20241001T030236Z
LAST-MODIFIED:20241001T030236Z
UID:1785-1739750400-1740096000@bridgit.biz
SUMMARY:PMP Certification Preparation
DESCRIPTION:
URL:https://bridgit.biz/training-session/pmp-certification-preparation-3/
CATEGORIES:Certification program 2025
END:VEVENT
BEGIN:VEVENT
DTSTART;TZID=Asia/Shanghai:20250220T000000
DTEND;TZID=Asia/Shanghai:20250221T000000
DTSTAMP:20260424T215750
CREATED:20241001T030120Z
LAST-MODIFIED:20241001T030120Z
UID:1754-1740009600-1740096000@bridgit.biz
SUMMARY:Warehouse & Inventory Control (Live-Online)
DESCRIPTION:
URL:https://bridgit.biz/training-session/warehouse-inventory-control-live-online/
CATEGORIES:Non-certification program 2025
END:VEVENT
BEGIN:VEVENT
DTSTART;TZID=Asia/Shanghai:20250224T000000
DTEND;TZID=Asia/Shanghai:20250227T000000
DTSTAMP:20260424T215750
CREATED:20241001T030134Z
LAST-MODIFIED:20241001T030134Z
UID:1757-1740355200-1740614400@bridgit.biz
SUMMARY:CAPM Certification Preparation
DESCRIPTION:
URL:https://bridgit.biz/training-session/capm-certification-preparation/
CATEGORIES:Certification program 2025
END:VEVENT
END:VCALENDAR