BEGIN:VCALENDAR
VERSION:2.0
PRODID:-//Bridgit Malaysia | Corporate Training, Consulting and More - ECPv6.15.20//NONSGML v1.0//EN
CALSCALE:GREGORIAN
METHOD:PUBLISH
X-WR-CALNAME:Bridgit Malaysia | Corporate Training, Consulting and More
X-ORIGINAL-URL:https://bridgit.biz
X-WR-CALDESC:Events for Bridgit Malaysia | Corporate Training, Consulting and More
REFRESH-INTERVAL;VALUE=DURATION:PT1H
X-Robots-Tag:noindex
X-PUBLISHED-TTL:PT1H
BEGIN:VTIMEZONE
TZID:Asia/Shanghai
BEGIN:STANDARD
TZOFFSETFROM:+0800
TZOFFSETTO:+0800
TZNAME:CST
DTSTART:20240101T000000
END:STANDARD
END:VTIMEZONE
BEGIN:VEVENT
DTSTART;TZID=Asia/Shanghai:20250410T000000
DTEND;TZID=Asia/Shanghai:20250411T000000
DTSTAMP:20260424T191219
CREATED:20241001T030023Z
LAST-MODIFIED:20241001T030023Z
UID:1739-1744243200-1744329600@bridgit.biz
SUMMARY:PMO For Success
DESCRIPTION:
URL:https://bridgit.biz/training-session/pmo-for-success-2/
CATEGORIES:Non-certification program 2025
END:VEVENT
BEGIN:VEVENT
DTSTART;TZID=Asia/Shanghai:20250414T000000
DTEND;TZID=Asia/Shanghai:20250414T000000
DTSTAMP:20260424T191219
CREATED:20241001T025713Z
LAST-MODIFIED:20241001T025713Z
UID:1696-1744588800-1744588800@bridgit.biz
SUMMARY:AI in Project Management (Live-Online)
DESCRIPTION:
URL:https://bridgit.biz/training-session/ai-in-project-management-live-online/
CATEGORIES:Non-certification program 2025
END:VEVENT
BEGIN:VEVENT
DTSTART;TZID=Asia/Shanghai:20250414T000000
DTEND;TZID=Asia/Shanghai:20250415T000000
DTSTAMP:20260424T191219
CREATED:20241001T025930Z
LAST-MODIFIED:20241001T025930Z
UID:1723-1744588800-1744675200@bridgit.biz
SUMMARY:Emotional Intelligence (Live-Online)
DESCRIPTION:
URL:https://bridgit.biz/training-session/emotional-intelligence-live-online-2/
CATEGORIES:Non-certification program 2025
END:VEVENT
BEGIN:VEVENT
DTSTART;TZID=Asia/Shanghai:20250415T000000
DTEND;TZID=Asia/Shanghai:20250418T000000
DTSTAMP:20260424T191219
CREATED:20241001T030134Z
LAST-MODIFIED:20241001T030134Z
UID:1758-1744675200-1744934400@bridgit.biz
SUMMARY:CAPM Certification Preparation
DESCRIPTION:
URL:https://bridgit.biz/training-session/capm-certification-preparation-2/
CATEGORIES:Certification program 2025
END:VEVENT
BEGIN:VEVENT
DTSTART;TZID=Asia/Shanghai:20250416T000000
DTEND;TZID=Asia/Shanghai:20250418T000000
DTSTAMP:20260424T191219
CREATED:20241001T030205Z
LAST-MODIFIED:20241120T040536Z
UID:1770-1744761600-1744934400@bridgit.biz
SUMMARY:Certified ESG Reporting Practitioner
DESCRIPTION:
URL:https://bridgit.biz/training-session/certified-esg-reporting-specialist-cers-2/
CATEGORIES:Certification program 2025
END:VEVENT
BEGIN:VEVENT
DTSTART;TZID=Asia/Shanghai:20250417T000000
DTEND;TZID=Asia/Shanghai:20250418T000000
DTSTAMP:20260424T191219
CREATED:20241001T025718Z
LAST-MODIFIED:20241001T025718Z
UID:1702-1744848000-1744934400@bridgit.biz
SUMMARY:Change Management Essentials (Live-Online)
DESCRIPTION:
URL:https://bridgit.biz/training-session/change-management-essentials-live-online-2/
CATEGORIES:Non-certification program 2025
END:VEVENT
BEGIN:VEVENT
DTSTART;TZID=Asia/Shanghai:20250421T000000
DTEND;TZID=Asia/Shanghai:20250422T000000
DTSTAMP:20260424T191219
CREATED:20241001T025712Z
LAST-MODIFIED:20241001T025712Z
UID:1692-1745193600-1745280000@bridgit.biz
SUMMARY:Agile Project Management
DESCRIPTION:
URL:https://bridgit.biz/training-session/agile-project-management-2/
CATEGORIES:Non-certification program 2025
END:VEVENT
BEGIN:VEVENT
DTSTART;TZID=Asia/Shanghai:20250421T000000
DTEND;TZID=Asia/Shanghai:20250424T000000
DTSTAMP:20260424T191219
CREATED:20241001T030221Z
LAST-MODIFIED:20241001T030221Z
UID:1777-1745193600-1745452800@bridgit.biz
SUMMARY:PMI-ACP Certification Preparation
DESCRIPTION:
URL:https://bridgit.biz/training-session/pmi-acp-certification-preparation-2/
CATEGORIES:Certification program 2025
END:VEVENT
BEGIN:VEVENT
DTSTART;TZID=Asia/Shanghai:20250421T000000
DTEND;TZID=Asia/Shanghai:20250425T000000
DTSTAMP:20260424T191219
CREATED:20241001T030252Z
LAST-MODIFIED:20241001T030252Z
UID:1787-1745193600-1745539200@bridgit.biz
SUMMARY:PMP Certification Preparation
DESCRIPTION:
URL:https://bridgit.biz/training-session/pmp-certification-preparation-5/
CATEGORIES:Certification program 2025
END:VEVENT
END:VCALENDAR